BEGIN:VCALENDAR
VERSION:2.0
PRODID:-//BORDERLESS RENEWABLES - ECPv6.15.20//NONSGML v1.0//EN
CALSCALE:GREGORIAN
METHOD:PUBLISH
X-ORIGINAL-URL:https://borderlessrenewables.com
X-WR-CALDESC:Events for BORDERLESS RENEWABLES
REFRESH-INTERVAL;VALUE=DURATION:PT1H
X-Robots-Tag:noindex
X-PUBLISHED-TTL:PT1H
BEGIN:VTIMEZONE
TZID:UTC
BEGIN:STANDARD
TZOFFSETFROM:+0000
TZOFFSETTO:+0000
TZNAME:UTC
DTSTART:20250101T000000
END:STANDARD
END:VTIMEZONE
BEGIN:VEVENT
DTSTART;VALUE=DATE:20260513
DTEND;VALUE=DATE:20260516
DTSTAMP:20260424T222512
CREATED:20260310T113439Z
LAST-MODIFIED:20260310T113844Z
UID:673-1778630400-1778889599@borderlessrenewables.com
SUMMARY:China International Energy Storage Conference & Exhibition (CIES 2026)
DESCRIPTION:Member Discount is available
URL:https://borderlessrenewables.com/event/china-international-energy-storage-conference-exhibition-cies-2026/
LOCATION:Shenzhen\, China
END:VEVENT
END:VCALENDAR