BEGIN:VCALENDAR
VERSION:2.0
PRODID:-//BORDERLESS RENEWABLES - ECPv6.15.20//NONSGML v1.0//EN
CALSCALE:GREGORIAN
METHOD:PUBLISH
X-WR-CALNAME:BORDERLESS RENEWABLES
X-ORIGINAL-URL:https://borderlessrenewables.com
X-WR-CALDESC:Events for BORDERLESS RENEWABLES
REFRESH-INTERVAL;VALUE=DURATION:PT1H
X-Robots-Tag:noindex
X-PUBLISHED-TTL:PT1H
BEGIN:VTIMEZONE
TZID:UTC
BEGIN:STANDARD
TZOFFSETFROM:+0000
TZOFFSETTO:+0000
TZNAME:UTC
DTSTART:20220101T000000
END:STANDARD
END:VTIMEZONE
BEGIN:VEVENT
DTSTART;VALUE=DATE:20250410
DTEND;VALUE=DATE:20250413
DTSTAMP:20260425T110039
CREATED:20250108T174512Z
LAST-MODIFIED:20250108T174512Z
UID:372-1744243200-1744502399@borderlessrenewables.com
SUMMARY:13th Energy Storage International Conference and Expo (ESIE)
DESCRIPTION:
URL:https://borderlessrenewables.com/event/13th-energy-storage-international-conference-and-expo-esie/
LOCATION:Beijing\, China
END:VEVENT
BEGIN:VEVENT
DTSTART;VALUE=DATE:20250317
DTEND;VALUE=DATE:20250321
DTSTAMP:20260425T110039
CREATED:20250221T121504Z
LAST-MODIFIED:20250221T121504Z
UID:501-1742169600-1742515199@borderlessrenewables.com
SUMMARY:The Infrastructure Investor Network. Global Summit
DESCRIPTION:The Infrastructure Investor Global Summit is where capital is allocated and boldest ideas in global infrastructure take shape. For four impactful days\, immerse yourself in dynamic\, expert-led sessions\, tackle the industry’s toughest challenges\, and gain the strategies you need to outpace the competition. \nJoin a powerhouse network of over 3\,000 top-tier investors\, fund managers\, and game-changing partners. Forge connections\, unlock capital\, and fuel your next major move.
URL:https://borderlessrenewables.com/event/the-infrastructure-investor-network-global-summit/
LOCATION:Berlin\, Germany
ATTACH;FMTTYPE=image/png:https://borderlessrenewables.com/wp-content/uploads/2025/02/download.png
END:VEVENT
BEGIN:VEVENT
DTSTART;VALUE=DATE:20250310
DTEND;VALUE=DATE:20250313
DTSTAMP:20260425T110039
CREATED:20250130T200724Z
LAST-MODIFIED:20250130T200724Z
UID:437-1741564800-1741823999@borderlessrenewables.com
SUMMARY:PEI NEXUS 2025
DESCRIPTION:The Global Investor Summit
URL:https://borderlessrenewables.com/event/pei-nexus-2025/
LOCATION:Orlando Grande Lakes\, United States
ATTACH;FMTTYPE=image/jpeg:https://borderlessrenewables.com/wp-content/uploads/2025/01/NEXUS.jpg
END:VEVENT
BEGIN:VEVENT
DTSTART;VALUE=DATE:20250305
DTEND;VALUE=DATE:20250308
DTSTAMP:20260425T110039
CREATED:20241102T114501Z
LAST-MODIFIED:20241102T114501Z
UID:323-1741132800-1741391999@borderlessrenewables.com
SUMMARY:ASEAN (Bangkok) Solar PV & Energy Storage Expo 2025
DESCRIPTION:20% Member discount
URL:https://borderlessrenewables.com/event/asean-bangkok-solar-pv-energy-storage-expo-2025/
LOCATION:Thailand
END:VEVENT
BEGIN:VEVENT
DTSTART;VALUE=DATE:20250301
DTEND;VALUE=DATE:20250627
DTSTAMP:20260425T110039
CREATED:20241016T125547Z
LAST-MODIFIED:20241016T125547Z
UID:288-1740787200-1750982399@borderlessrenewables.com
SUMMARY:EU Sustainable Energy Week 2025
DESCRIPTION:Sustainable Energy Days are events that take place anywhere around the world\, promoting clean energy and energy efficiency. In the current context of the energy transition and independence of the energy supply\, every Sustainable Energy Day is an opportunity to inspire behavioural changes and innovation towards meeting energy and climate goals in the EU and around the world. \nThese events will take place between March and June 2025\, exploring a variety of topics in sessions of different formats and durations.
URL:https://borderlessrenewables.com/event/eu-sustainable-energy-week-2025/
ATTACH;FMTTYPE=image/png:https://borderlessrenewables.com/wp-content/uploads/2024/10/EUSW25.png
END:VEVENT
BEGIN:VEVENT
DTSTART;TZID=UTC:20250120T080000
DTEND;TZID=UTC:20250124T170000
DTSTAMP:20260425T110040
CREATED:20241016T130014Z
LAST-MODIFIED:20241016T130041Z
UID:290-1737360000-1737738000@borderlessrenewables.com
SUMMARY:The World Economic Forum (WEF) Annual Meeting
DESCRIPTION:The Annual Meeting 2025 convenes global leaders to address key global and regional challenges. These include responding to geopolitical shocks\, stimulating growth to improve living standards\, and stewarding a just and inclusive energy transition.
URL:https://borderlessrenewables.com/event/the-world-economic-forum-wef-annual-meeting/
LOCATION:DAVOS-KLOSTERS\, SWITZERLAND
ATTACH;FMTTYPE=image/png:https://borderlessrenewables.com/wp-content/uploads/2024/10/WEF-logo.png
END:VEVENT
BEGIN:VEVENT
DTSTART;VALUE=DATE:20250114
DTEND;VALUE=DATE:20250117
DTSTAMP:20260425T110040
CREATED:20241018T174848Z
LAST-MODIFIED:20241018T174848Z
UID:293-1736812800-1737071999@borderlessrenewables.com
SUMMARY:The World Future Energy Summit
DESCRIPTION:
URL:https://borderlessrenewables.com/event/the-world-future-energy-summit/
LOCATION:ADNEC\, Abu Dhabi\, United Arab Emirates
END:VEVENT
BEGIN:VEVENT
DTSTART;VALUE=DATE:20241112
DTEND;VALUE=DATE:20241113
DTSTAMP:20260425T110040
CREATED:20241024T185645Z
LAST-MODIFIED:20241102T113132Z
UID:310-1731369600-1731455999@borderlessrenewables.com
SUMMARY:UK Sustainable Infrastructure Summit
DESCRIPTION:Borderless Renewables is pleased to be supporting the 19th Annual UK Sustainable Infrastructure Summit\, which is taking place on 12 November\, in London. \n  \nObtain a 20% discount (scroll down for details) \n  \nThis year’s programme examines the opportunities and challenges associated with the government’s plans to decarbonise the power sector by 2030. The morning sessions analyse the new policy initiatives and delivery models that the government is introducing – Great British Energy\, the National Wealth Fund\, the National Infrastructure and Service Transformation Authority\, bringing in more pension and insurance company investment\, reforming planning and improving grid connections – and how these may help to catalyse the very significant investment\, predominantly by the private sector\, that the plans require. In the afternoon\, the focus is on the investment opportunities in each of the priority renewable/clean energy sectors and technologies identified by the government as critical to achieving its objective\, including offshore\, onshore and floating wind; new nuclear; carbon capture & storage; and green hydrogen. \n  \nYou can view the full agenda here. \n  \nDelegate fees \nPrivate Sector Fee: £595 + VAT \nPublic Sector Fee: £295 + VAT \nObtain a 20% discount off the above fees using code: PFIR24BR
URL:https://borderlessrenewables.com/event/uk-sustainable-infrastructure-summit/
LOCATION:London\, UK
END:VEVENT
BEGIN:VEVENT
DTSTART;VALUE=DATE:20241015
DTEND;VALUE=DATE:20241017
DTSTAMP:20260425T110040
CREATED:20231024T184938Z
LAST-MODIFIED:20231024T184938Z
UID:173-1728950400-1729123199@borderlessrenewables.com
SUMMARY:Energy Storage Summit Latin America
DESCRIPTION:Welcome to Energy Storage Summit LatAm\, taking place in the vibrant city of Santiago\, Chile on 15-16 October\, 2024. \nAcross Latin America\, changes are afoot as ambitious renewable targets are set and legislation is brought in to help further the deployment of renewable energy. The past year has seen the Senate of Chile unanimously pass major legislative changes to incentivize the deployment of energy storage and Brazil launch its first large-scale battery storage project with a total capacity of over 30 MW. \nWith the energy storage industry facing unprecedented growth across the globe\, we are excited to launch the first in-person edition of the Summit\, focusing on the opportunities\, challenges and lessons learnt across various countries as the region readies itself for an uptick in energy storage deployments. \nThe Summit will explore opportunities in countries such as Chile\, Peru\, Colombia\, Argentina\, Brazil and Mexico to name just a few. Key themes include policy & regulatory milestones\, encouraging investment in the region\, storage as a transmission asset\, best practice for storage deployment\, maximizing revenue from batteries and enhancing the supply chain. \nIf your goal is to meet other industry professionals and create valuable business partnerships to better understand the region\, we provide the perfect platform to make high-level connections and fuel enriching and beneficial conversations in a relaxed yet professional environment.
URL:https://borderlessrenewables.com/event/energy-storage-summit-latin-america-2/
LOCATION:Santiago\, Chile
ATTACH;FMTTYPE=image/jpeg:https://borderlessrenewables.com/wp-content/uploads/2023/10/ESSLatAm_1200x628_Association-for-Borderless-Renewables.jpg
END:VEVENT
BEGIN:VEVENT
DTSTART;VALUE=DATE:20240926
DTEND;VALUE=DATE:20240927
DTSTAMP:20260425T110040
CREATED:20231024T190300Z
LAST-MODIFIED:20231024T190300Z
UID:179-1727308800-1727395199@borderlessrenewables.com
SUMMARY:Energy Storage Awards
DESCRIPTION:The Energy Storage Awards (ESAs) aim to reward excellence and hard work in the European industry\, recognising the pioneering spirit and dedication to positive change it represents. Entries will open in Spring 2024\, register your interest today to stay up to date. \nNow in their second year\, the Energy Storage Awards are brought to you by Solar Media\, publisher of global energy storage industry website Energy-Storage.News\, and host of events including the Energy Storage Summit series in the UK\, US and Asia. \nThe energy storage industry has grown rapidly since Energy-Storage.News launched in 2014 and the Energy Storage Awards is a great way to come together to celebrate just how far it has come. There is still a lot of work to do in modernising the energy system to a cleaner\, more efficient and smarter one\, and we hope to provide another motivating force for good to the industry.
URL:https://borderlessrenewables.com/event/energy-storage-awards-2/
LOCATION:London\, UK
ATTACH;FMTTYPE=image/png:https://borderlessrenewables.com/wp-content/uploads/2023/10/ESA-Logo-Inverse.png
END:VEVENT
BEGIN:VEVENT
DTSTART;VALUE=DATE:20240808
DTEND;VALUE=DATE:20240811
DTSTAMP:20260425T110040
CREATED:20240219T124216Z
LAST-MODIFIED:20240424T145444Z
UID:233-1723075200-1723334399@borderlessrenewables.com
SUMMARY:2024 Solar PV & Energy Storage World Expo
DESCRIPTION:16th Solar PV & Energy Storage World Expo 2024 (PV Guangzhou) \nDate: August 8th – 10th\, 2024 \nVenue: China Import & Export Fair Complex\, Guangzhou\, China \nScale: 150\,000 SQM\, 2000+ Exhibitors\, 200\,000 Visitors \n  \nFree Visitor Pre-registration: http://hwdl.vip/?870y \n  \nIntroduction: \nIn 2024 August 8-10\, Solar PV & Energy Storage World Expo 2024 is expected to reach an exhibition scale of 150\,000 square meters\, bringing together 2\,000+ exhibitors and 200\,000+ professional visitors\,deeply linking upstream\, midstream\, and downstream industry chain resources\,building a one-stop business procurement platform. \n  \nPartial exhibitors: \nHuawei\, Longi\, JA Solar\, Jinko\, Tongwei\, GCL\, Haier\, Skyworth\, Aiko\, Trina\, Canadian Solar\, Suntech\, Sunrise\, Lesso Banhao\, Astronergy\, Consort Solar\, Sunman\, Amerisolar\, Ulica\, Sunpport\, SolarSpace\, Sungrow\, Goodwe\, Growatt\, Sanjing\, Invt\, Deye\, Hopewind\, Homiles\, SRNE\, Suntree\, SAJ\, Mibet\, Kingfeels\, Kseng\, Titan\, Sorotech\, EPEVER\, JYC Battery\, etc \n  \nContact:Ms. Mandy Tsang \nMobile/Whatsapp: +86 159 1877 5956 \nWechat: 159 1877 5956 \nEmail:grand.gz@grahw.com \nEvent website: http://en.pvguangzhou.com/ \n  \n  \n 
URL:https://borderlessrenewables.com/event/2024-solar-pv-energy-storage-world-expo/
LOCATION:Guangzhou\, China
ATTACH;FMTTYPE=image/png:https://borderlessrenewables.com/wp-content/uploads/2024/02/PV-Guangzhou-logo.png
END:VEVENT
BEGIN:VEVENT
DTSTART;TZID=UTC:20240702T080000
DTEND;TZID=UTC:20240703T170000
DTSTAMP:20260425T110040
CREATED:20240219T120007Z
LAST-MODIFIED:20240219T120007Z
UID:229-1719907200-1720026000@borderlessrenewables.com
SUMMARY:Green Hydrogen Summit UK & Ireland
DESCRIPTION:
URL:https://borderlessrenewables.com/event/green-hydrogen-summit-uk-ireland/
LOCATION:London\, UK
END:VEVENT
BEGIN:VEVENT
DTSTART;VALUE=DATE:20240702
DTEND;VALUE=DATE:20240704
DTSTAMP:20260425T110040
CREATED:20240219T115842Z
LAST-MODIFIED:20240219T115842Z
UID:227-1719878400-1720051199@borderlessrenewables.com
SUMMARY:Large Scale Solar Southern Europe
DESCRIPTION:
URL:https://borderlessrenewables.com/event/large-scale-solar-southern-europe-2/
LOCATION:Athens\, Greece
END:VEVENT
BEGIN:VEVENT
DTSTART;TZID=UTC:20240604T080000
DTEND;TZID=UTC:20240605T170000
DTSTAMP:20260425T110040
CREATED:20240219T114529Z
LAST-MODIFIED:20240219T115350Z
UID:223-1717488000-1717606800@borderlessrenewables.com
SUMMARY:UK Solar Summit
DESCRIPTION:
URL:https://borderlessrenewables.com/event/uk-solar-summit-2/
LOCATION:London\, UK
END:VEVENT
BEGIN:VEVENT
DTSTART;TZID=UTC:20240416T080000
DTEND;TZID=UTC:20240418T170000
DTSTAMP:20260425T110040
CREATED:20230922T184435Z
LAST-MODIFIED:20230922T184435Z
UID:165-1713254400-1713459600@borderlessrenewables.com
SUMMARY:World Future Energy Summit
DESCRIPTION:
URL:https://borderlessrenewables.com/event/world-future-energy-summit/
LOCATION:ADNEC\, Abu Dhabi\, United Arab Emirates
END:VEVENT
BEGIN:VEVENT
DTSTART;VALUE=DATE:20240319
DTEND;VALUE=DATE:20240321
DTSTAMP:20260425T110040
CREATED:20231024T184604Z
LAST-MODIFIED:20231024T184604Z
UID:168-1710806400-1710979199@borderlessrenewables.com
SUMMARY:Energy Storage Summit USA
DESCRIPTION:The Energy Storage Summit USA will return to Austin in March\, taking place at a new and improved venue for 2024. \nThe US remains at the center of the global energy storage industry\, with California having surpassed 5GW of grid-scale energy storage installations this year\, ERCOT going from strength to strength and new markets across the country opening up. Canada is also becoming more competitive\, particularly in provinces like Ontario and Alberta. \nEnergy storage is no longer an aside or a luxury; it is a necessity if we want to reach our global net-zero goals and stay on track.
URL:https://borderlessrenewables.com/event/energy-storage-summit-usa/
LOCATION:Austin\, Texas\, United States
ATTACH;FMTTYPE=image/jpeg:https://borderlessrenewables.com/wp-content/uploads/2023/10/ESSUSA_1200x628_Association-for-Borderless-Renewables.jpg
END:VEVENT
BEGIN:VEVENT
DTSTART;TZID=UTC:20240220T140000
DTEND;TZID=UTC:20240220T170000
DTSTAMP:20260425T110040
CREATED:20240219T115617Z
LAST-MODIFIED:20240219T115617Z
UID:225-1708437600-1708448400@borderlessrenewables.com
SUMMARY:Webinar: International trade and green hydrogen
DESCRIPTION:Renewable energy\, particularly green hydrogen\, stands as a critical element in the transition away from fossil fuels\, addressing challenges in sectors like industrial processes\, shipping\, and aviation. The webinar explores the nexus between trade policies and the development of green hydrogen markets\, based on the recent joint report between the International Renewable Energy Agency (IRENA) and the World Trade Organization (WTO). \nThe session will highlight the potential of international trade in balancing supply and demand for green hydrogen and the role of trade policies in fostering the development of green hydrogen supply chains\, acknowledging the significance of global collaboration. It will also explore the challenges and opportunities presented to developing economies by green hydrogen and its derivatives\, emphasizing the need for harmonized regulatory frameworks to stimulate technology development\, enhance transparency\, and fuel market growth. \nFeatured speakers: \n\nSvetlana Chobanova\, Legal Officer\, Trade and Environment Division\, WTO\nLuis Janeiro\, Team Lead\, End-use sectors\, IRENA
URL:https://borderlessrenewables.com/event/webinar-international-trade-and-green-hydrogen/
END:VEVENT
BEGIN:VEVENT
DTSTART;TZID=UTC:20240220T080000
DTEND;TZID=UTC:20240221T170000
DTSTAMP:20260425T110040
CREATED:20240219T114052Z
LAST-MODIFIED:20240219T114052Z
UID:221-1708416000-1708534800@borderlessrenewables.com
SUMMARY:Energy Storage Summit 2024
DESCRIPTION:
URL:https://borderlessrenewables.com/event/energy-storage-summit-2024/
LOCATION:London\, UK
END:VEVENT
BEGIN:VEVENT
DTSTART;TZID=UTC:20240115T080000
DTEND;TZID=UTC:20240119T170000
DTSTAMP:20260425T110040
CREATED:20231024T192613Z
LAST-MODIFIED:20231024T192613Z
UID:187-1705305600-1705683600@borderlessrenewables.com
SUMMARY:The 54th Annual Meeting of the World Economic Forum
DESCRIPTION:The 54th Annual Meeting of the World Economic Forum will primarily focus on exploring the opportunities enabled by the new technologies and their implications on decision-making and global partnership. \nAs in previous years\, the upcoming Annual Meeting will be the foremost platform to drive public-private cooperation at the highest level\, convening over 100 governments\, all major international organizations\, the 1000 most important global companies\, relevant civil society and academic institutions\, as well as the global media.
URL:https://borderlessrenewables.com/event/the-54th-annual-meeting-of-the-world-economic-forum/
LOCATION:DAVOS-KLOSTERS\, SWITZERLAND
ATTACH;FMTTYPE=image/png:https://borderlessrenewables.com/wp-content/uploads/2023/10/WEF.png
END:VEVENT
BEGIN:VEVENT
DTSTART;VALUE=DATE:20231122
DTEND;VALUE=DATE:20231123
DTSTAMP:20260425T110040
CREATED:20231024T194126Z
LAST-MODIFIED:20231024T194126Z
UID:193-1700611200-1700697599@borderlessrenewables.com
SUMMARY:Stakeholder-driven energy scenarios for a just transition: Dialogue with the scientific community
DESCRIPTION:Participatory processes are fundamental in the development of long-term energy scenarios\, integrating insights from a broad spectrum of stakeholders\, including government officials\, industry experts\, and the general public. Such a holistic approach not only enhances the quality of the energy scenarios but also promotes trust and collaboration\, paving the way for discussions on future energy prospects and their associated trade-offs. \nIRENA’s Long-term Energy Scenarios (LTES) Network has organized various activities to highlight the importance of these processes\, with the intention to provide a toolkit for energy planners focused on stakeholder engagement. With backing from the Horizon Europe-funded European SSH center\, institutions such as the Institute for European Energy and Climate Policy (IEECP)\, TU Delft\, University College London\, and ΔE+ Research Lab are delving into the role of interdisciplinary research in energy transitions. \nAn upcoming workshop\, co-organized by IRENA and IEECP\, seeks to bring together professionals from diverse fields. The aim is to underscore the significance of participatory scenarios and the integration of wider scientific input into national energy planning. The workshop will focus on sharing best practices\, addressing model limitations in addressing socio-political transitions\, and discussing how more inclusive energy scenarios can be formulated through stakeholder collaboration. \nThe event will be held in a hybrid format (on-site and virtual)\, allocating only a limited number of on-site (priority given to the LTES members\, partners\, and topic experts).
URL:https://borderlessrenewables.com/event/stakeholder-driven-energy-scenarios-for-a-just-transition-dialogue-with-the-scientific-community/
LOCATION:Bonn\, Gemany
ATTACH;FMTTYPE=image/png:https://borderlessrenewables.com/wp-content/uploads/2023/10/IRENA-logo.png
END:VEVENT
BEGIN:VEVENT
DTSTART;VALUE=DATE:20231115
DTEND;VALUE=DATE:20231117
DTSTAMP:20260425T110040
CREATED:20231024T185555Z
LAST-MODIFIED:20231024T185555Z
UID:176-1700006400-1700179199@borderlessrenewables.com
SUMMARY:Large Scale Solar Central and Eastern Europe Summit
DESCRIPTION:The Large Scale Solar Central and Eastern Europe Summit 2023 returns as the region continues to grapple with decarbonisation targets and energy security requirements. \nFor developers\, investors and technology providers deploying large scale solar projects in countries including Poland\, Romania\, Hungary\, Bulgaria\, Ukraine\, Croatia\, Serbia\, Austria\, Czech Republic\, the Baltics\, Slovenia and Slovakia\, there are potentially huge payoffs if the right offtake structure and business model is chosen. \nHowever\, challenges in obtaining grid connections and permits\, and uncertainties about rising interest rates\, individual countries’ regulatory frameworks\, supply chain blockages\, the impact of co-located storage revenues and ESG requirements must be overcome for these opportunities to be realised. \nBy attending Large Scale Solar Central and Eastern Europe you can leverage a network that has been made over more than 10 years to build critical partnerships to develop solar projects throughout the region.
URL:https://borderlessrenewables.com/event/large-scale-solar-central-and-eastern-europe-summit/
LOCATION:Warsaw\, Poland
ATTACH;FMTTYPE=image/jpeg:https://borderlessrenewables.com/wp-content/uploads/2023/10/LSScee_1200x628_Association-for-Borderless-Renewables.jpg
END:VEVENT
BEGIN:VEVENT
DTSTART;VALUE=DATE:20231107
DTEND;VALUE=DATE:20231109
DTSTAMP:20260425T110040
CREATED:20231024T191403Z
LAST-MODIFIED:20231024T191403Z
UID:183-1699315200-1699487999@borderlessrenewables.com
SUMMARY:Solar & Storage Finance USA
DESCRIPTION:2023 is set to be a defining year for solar\, storage and Solar Media’s 10th edition finance summit. \nLast year saw the passage of the Inflation Reduction Act (IRA) which brings together an estimated $370 billion in federal funding over the next ten years to facilitate clean energy transition in the US. The IRA has immediately impacted the long-term outlook of the solar and storage industry. \nFunding remains available for large-scale energy infrastructure drawn from the Department of Energy’s $40 billion loans program. In addition\, the IRA is estimated to attract $600 billion in new investment resulting in an additional 222GW of solar installations over the next decade. This is enough to power an additional 165 million US homes. \nThe picture is similar for storage as the U.S. government has increased investment tax credits to 30% for energy standalone systems. Estimates indicate a further 20.8 GW of utility-scale battery storage will become operational by 2025. To date\, 10 states have energy storage specific procurement targets with that list set to grow. The host state of this year’s summit\, New York\, is expected to incentivize an additional 5GW of residential\, commercial\, and utility-scale storage onto the grid. \nChallenges remain as the sector continues to decode the updated tax credit structures\, navigate the hurdles of the current inflationary environment and keep projects to schedule.
URL:https://borderlessrenewables.com/event/solar-storage-finance-usa/
LOCATION:New York\, United States
ATTACH;FMTTYPE=image/jpeg:https://borderlessrenewables.com/wp-content/uploads/2023/10/SSFUSA_1200x628_Association-for-Borderless-Renewables.jpg
END:VEVENT
BEGIN:VEVENT
DTSTART;TZID=UTC:20231017T080000
DTEND;TZID=UTC:20231018T170000
DTSTAMP:20260425T110040
CREATED:20230922T184309Z
LAST-MODIFIED:20230922T184309Z
UID:162-1697529600-1697648400@borderlessrenewables.com
SUMMARY:Energy Storage Summit Latin America
DESCRIPTION:
URL:https://borderlessrenewables.com/event/energy-storage-summit-latin-america/
LOCATION:Santiago\, Chile
END:VEVENT
BEGIN:VEVENT
DTSTART;TZID=UTC:20231010T080000
DTEND;TZID=UTC:20231011T170000
DTSTAMP:20260425T110040
CREATED:20230922T184102Z
LAST-MODIFIED:20230922T184102Z
UID:160-1696924800-1697043600@borderlessrenewables.com
SUMMARY:EV World Congress 2023
DESCRIPTION:
URL:https://borderlessrenewables.com/event/ev-world-congress-2023/
LOCATION:London\, UK
END:VEVENT
BEGIN:VEVENT
DTSTART;TZID=UTC:20231003T080000
DTEND;TZID=UTC:20231004T170000
DTSTAMP:20260425T110040
CREATED:20230922T183941Z
LAST-MODIFIED:20230922T183941Z
UID:157-1696320000-1696438800@borderlessrenewables.com
SUMMARY:PV CellTech USA
DESCRIPTION:
URL:https://borderlessrenewables.com/event/pv-celltech-usa/
LOCATION:San Francisco Bay Area. USA
END:VEVENT
BEGIN:VEVENT
DTSTART;VALUE=DATE:20230928
DTEND;VALUE=DATE:20230929
DTSTAMP:20260425T110040
CREATED:20230922T183733Z
LAST-MODIFIED:20230922T183733Z
UID:155-1695859200-1695945599@borderlessrenewables.com
SUMMARY:Energy Storage Awards
DESCRIPTION:
URL:https://borderlessrenewables.com/event/energy-storage-awards/
LOCATION:London\, UK
END:VEVENT
BEGIN:VEVENT
DTSTART;VALUE=DATE:20230927
DTEND;VALUE=DATE:20230928
DTSTAMP:20260425T110040
CREATED:20230922T124245Z
LAST-MODIFIED:20230922T124245Z
UID:133-1695772800-1695859199@borderlessrenewables.com
SUMMARY:Climate Diplomacy | 28-For-28 Event Series
DESCRIPTION:Details\nThe webinar will touch on the international processes that relate to climate change and provide insights into the intricacies of international climate negotiations. It will also explore how recent international climate-centric gatherings and initiatives contribute to shaping the global climate agenda.
URL:https://borderlessrenewables.com/event/climate-diplomacy-28-for-28-event-series/
END:VEVENT
BEGIN:VEVENT
DTSTART;VALUE=DATE:20230926
DTEND;VALUE=DATE:20230928
DTSTAMP:20260425T110040
CREATED:20230922T183611Z
LAST-MODIFIED:20230922T183611Z
UID:152-1695686400-1695859199@borderlessrenewables.com
SUMMARY:Energy Storage Summit Central Eastern Europe
DESCRIPTION:
URL:https://borderlessrenewables.com/event/energy-storage-summit-central-eastern-europe/
LOCATION:Warsaw\, Poland
END:VEVENT
BEGIN:VEVENT
DTSTART;VALUE=DATE:20230720
DTEND;VALUE=DATE:20230723
DTSTAMP:20260425T110040
CREATED:20230504T195708Z
LAST-MODIFIED:20230504T195708Z
UID:104-1689811200-1690070399@borderlessrenewables.com
SUMMARY:The European Sustainable Energy Week 2023
DESCRIPTION:
URL:https://borderlessrenewables.com/event/the-european-sustainable-energy-week-2023/
LOCATION:Brussels
ATTACH;FMTTYPE=image/jpeg:https://borderlessrenewables.com/wp-content/uploads/2023/05/EU-Sustainability-week.jpg
END:VEVENT
BEGIN:VEVENT
DTSTART;VALUE=DATE:20230706
DTEND;VALUE=DATE:20230707
DTSTAMP:20260425T110040
CREATED:20230601T083141Z
LAST-MODIFIED:20230604T201941Z
UID:126-1688601600-1688687999@borderlessrenewables.com
SUMMARY:The 18th Annual UK Sustainable Infrastructure Summit
DESCRIPTION:Borderless Renewables member discount – 20 per cent
URL:https://borderlessrenewables.com/event/the-18th-annual-uk-sustainable-infrastructure-summit/
LOCATION:London\, UK
ATTACH;FMTTYPE=image/jpeg:https://borderlessrenewables.com/wp-content/uploads/2023/06/UK-Infrastructure-Summit.jpg
END:VEVENT
END:VCALENDAR