BEGIN:VCALENDAR
VERSION:2.0
PRODID:-//BORDERLESS RENEWABLES - ECPv6.15.20//NONSGML v1.0//EN
CALSCALE:GREGORIAN
METHOD:PUBLISH
X-WR-CALNAME:BORDERLESS RENEWABLES
X-ORIGINAL-URL:https://borderlessrenewables.com
X-WR-CALDESC:Events for BORDERLESS RENEWABLES
REFRESH-INTERVAL;VALUE=DURATION:PT1H
X-Robots-Tag:noindex
X-PUBLISHED-TTL:PT1H
BEGIN:VTIMEZONE
TZID:UTC
BEGIN:STANDARD
TZOFFSETFROM:+0000
TZOFFSETTO:+0000
TZNAME:UTC
DTSTART:20220101T000000
END:STANDARD
END:VTIMEZONE
BEGIN:VEVENT
DTSTART;VALUE=DATE:20231107
DTEND;VALUE=DATE:20231109
DTSTAMP:20260425T111227
CREATED:20231024T191403Z
LAST-MODIFIED:20231024T191403Z
UID:183-1699315200-1699487999@borderlessrenewables.com
SUMMARY:Solar & Storage Finance USA
DESCRIPTION:2023 is set to be a defining year for solar\, storage and Solar Media’s 10th edition finance summit. \nLast year saw the passage of the Inflation Reduction Act (IRA) which brings together an estimated $370 billion in federal funding over the next ten years to facilitate clean energy transition in the US. The IRA has immediately impacted the long-term outlook of the solar and storage industry. \nFunding remains available for large-scale energy infrastructure drawn from the Department of Energy’s $40 billion loans program. In addition\, the IRA is estimated to attract $600 billion in new investment resulting in an additional 222GW of solar installations over the next decade. This is enough to power an additional 165 million US homes. \nThe picture is similar for storage as the U.S. government has increased investment tax credits to 30% for energy standalone systems. Estimates indicate a further 20.8 GW of utility-scale battery storage will become operational by 2025. To date\, 10 states have energy storage specific procurement targets with that list set to grow. The host state of this year’s summit\, New York\, is expected to incentivize an additional 5GW of residential\, commercial\, and utility-scale storage onto the grid. \nChallenges remain as the sector continues to decode the updated tax credit structures\, navigate the hurdles of the current inflationary environment and keep projects to schedule.
URL:https://borderlessrenewables.com/event/solar-storage-finance-usa/
LOCATION:New York\, United States
ATTACH;FMTTYPE=image/jpeg:https://borderlessrenewables.com/wp-content/uploads/2023/10/SSFUSA_1200x628_Association-for-Borderless-Renewables.jpg
END:VEVENT
BEGIN:VEVENT
DTSTART;TZID=UTC:20231017T080000
DTEND;TZID=UTC:20231018T170000
DTSTAMP:20260425T111227
CREATED:20230922T184309Z
LAST-MODIFIED:20230922T184309Z
UID:162-1697529600-1697648400@borderlessrenewables.com
SUMMARY:Energy Storage Summit Latin America
DESCRIPTION:
URL:https://borderlessrenewables.com/event/energy-storage-summit-latin-america/
LOCATION:Santiago\, Chile
END:VEVENT
BEGIN:VEVENT
DTSTART;TZID=UTC:20231010T080000
DTEND;TZID=UTC:20231011T170000
DTSTAMP:20260425T111227
CREATED:20230922T184102Z
LAST-MODIFIED:20230922T184102Z
UID:160-1696924800-1697043600@borderlessrenewables.com
SUMMARY:EV World Congress 2023
DESCRIPTION:
URL:https://borderlessrenewables.com/event/ev-world-congress-2023/
LOCATION:London\, UK
END:VEVENT
BEGIN:VEVENT
DTSTART;TZID=UTC:20231003T080000
DTEND;TZID=UTC:20231004T170000
DTSTAMP:20260425T111227
CREATED:20230922T183941Z
LAST-MODIFIED:20230922T183941Z
UID:157-1696320000-1696438800@borderlessrenewables.com
SUMMARY:PV CellTech USA
DESCRIPTION:
URL:https://borderlessrenewables.com/event/pv-celltech-usa/
LOCATION:San Francisco Bay Area. USA
END:VEVENT
BEGIN:VEVENT
DTSTART;VALUE=DATE:20230928
DTEND;VALUE=DATE:20230929
DTSTAMP:20260425T111227
CREATED:20230922T183733Z
LAST-MODIFIED:20230922T183733Z
UID:155-1695859200-1695945599@borderlessrenewables.com
SUMMARY:Energy Storage Awards
DESCRIPTION:
URL:https://borderlessrenewables.com/event/energy-storage-awards/
LOCATION:London\, UK
END:VEVENT
BEGIN:VEVENT
DTSTART;VALUE=DATE:20230927
DTEND;VALUE=DATE:20230928
DTSTAMP:20260425T111227
CREATED:20230922T124245Z
LAST-MODIFIED:20230922T124245Z
UID:133-1695772800-1695859199@borderlessrenewables.com
SUMMARY:Climate Diplomacy | 28-For-28 Event Series
DESCRIPTION:Details\nThe webinar will touch on the international processes that relate to climate change and provide insights into the intricacies of international climate negotiations. It will also explore how recent international climate-centric gatherings and initiatives contribute to shaping the global climate agenda.
URL:https://borderlessrenewables.com/event/climate-diplomacy-28-for-28-event-series/
END:VEVENT
BEGIN:VEVENT
DTSTART;VALUE=DATE:20230926
DTEND;VALUE=DATE:20230928
DTSTAMP:20260425T111227
CREATED:20230922T183611Z
LAST-MODIFIED:20230922T183611Z
UID:152-1695686400-1695859199@borderlessrenewables.com
SUMMARY:Energy Storage Summit Central Eastern Europe
DESCRIPTION:
URL:https://borderlessrenewables.com/event/energy-storage-summit-central-eastern-europe/
LOCATION:Warsaw\, Poland
END:VEVENT
BEGIN:VEVENT
DTSTART;VALUE=DATE:20230720
DTEND;VALUE=DATE:20230723
DTSTAMP:20260425T111227
CREATED:20230504T195708Z
LAST-MODIFIED:20230504T195708Z
UID:104-1689811200-1690070399@borderlessrenewables.com
SUMMARY:The European Sustainable Energy Week 2023
DESCRIPTION:
URL:https://borderlessrenewables.com/event/the-european-sustainable-energy-week-2023/
LOCATION:Brussels
ATTACH;FMTTYPE=image/jpeg:https://borderlessrenewables.com/wp-content/uploads/2023/05/EU-Sustainability-week.jpg
END:VEVENT
BEGIN:VEVENT
DTSTART;VALUE=DATE:20230706
DTEND;VALUE=DATE:20230707
DTSTAMP:20260425T111227
CREATED:20230601T083141Z
LAST-MODIFIED:20230604T201941Z
UID:126-1688601600-1688687999@borderlessrenewables.com
SUMMARY:The 18th Annual UK Sustainable Infrastructure Summit
DESCRIPTION:Borderless Renewables member discount – 20 per cent
URL:https://borderlessrenewables.com/event/the-18th-annual-uk-sustainable-infrastructure-summit/
LOCATION:London\, UK
ATTACH;FMTTYPE=image/jpeg:https://borderlessrenewables.com/wp-content/uploads/2023/06/UK-Infrastructure-Summit.jpg
END:VEVENT
BEGIN:VEVENT
DTSTART;VALUE=DATE:20230704
DTEND;VALUE=DATE:20230706
DTSTAMP:20260425T111227
CREATED:20230529T200245Z
LAST-MODIFIED:20230529T200501Z
UID:115-1688428800-1688601599@borderlessrenewables.com
SUMMARY:Large Scale Solar Southern Europe
DESCRIPTION:Borderless Renewables member discount – 20 per cent
URL:https://borderlessrenewables.com/event/large-scale-solar-southern-europe/
LOCATION:Athens\, Greece
ATTACH;FMTTYPE=image/png:https://borderlessrenewables.com/wp-content/uploads/2023/05/cropped-LSS-Southern-Europe-1024x484-1.png
END:VEVENT
BEGIN:VEVENT
DTSTART;VALUE=DATE:20230627
DTEND;VALUE=DATE:20230629
DTSTAMP:20260425T111227
CREATED:20230529T195935Z
LAST-MODIFIED:20230529T195935Z
UID:112-1687824000-1687996799@borderlessrenewables.com
SUMMARY:UK Solar Summit
DESCRIPTION:Borderless Renewables member discount – 20 per cent
URL:https://borderlessrenewables.com/event/uk-solar-summit/
LOCATION:London\, UK
ATTACH;FMTTYPE=image/png:https://borderlessrenewables.com/wp-content/uploads/2023/05/cropped-UK-Solar-Summit-800x435-1.png
END:VEVENT
BEGIN:VEVENT
DTSTART;VALUE=DATE:20230606
DTEND;VALUE=DATE:20230608
DTSTAMP:20260425T111227
CREATED:20230529T195654Z
LAST-MODIFIED:20230529T195654Z
UID:108-1686009600-1686182399@borderlessrenewables.com
SUMMARY:Renewable Energy Revenues Summit
DESCRIPTION:Borderless Renewables member discount – 20 per cent
URL:https://borderlessrenewables.com/event/renewable-energy-revenues-summit/
LOCATION:London\, UK
ATTACH;FMTTYPE=image/png:https://borderlessrenewables.com/wp-content/uploads/2023/05/cropped-RERS_2nd-Edition_DARE-1.png
END:VEVENT
BEGIN:VEVENT
DTSTART;VALUE=DATE:20230509
DTEND;VALUE=DATE:20230512
DTSTAMP:20260425T111227
CREATED:20230502T132202Z
LAST-MODIFIED:20230502T132202Z
UID:100-1683590400-1683849599@borderlessrenewables.com
SUMMARY:World Hydrogen Summit
DESCRIPTION:
URL:https://borderlessrenewables.com/event/world-hydrogen-summit/
END:VEVENT
BEGIN:VEVENT
DTSTART;VALUE=DATE:20230508
DTEND;VALUE=DATE:20230511
DTSTAMP:20260425T111227
CREATED:20230125T180537Z
LAST-MODIFIED:20230425T180926Z
UID:43-1683504000-1683763199@borderlessrenewables.com
SUMMARY:The World Utilities Congress
DESCRIPTION:Uniquely situated in the energy calendar and sitting between COP27 in Egypt and COP28 in the UAE\, the World Utilities Congress will convene global energy leaders\, policymakers\, innovators\, and industry professionals from across the power & water utilities value chain to discuss the major trends and challenges shaping the industry as utilities worldwide work to deliver secure\, sustainable\, and affordable energy. \nWith more than 150 regional & international exhibitors present in-person\, the exhibition will give you ample opportunities to generate new business\, cultivate business relationships and meet key suppliers. \nJoin over 10\,000 utilities professionals and discover the latest technologies and solutions in power generation\, transmission and distribution\, nuclear energy\, water management and desalination. \nVISITOR REGISTRATION 
URL:https://borderlessrenewables.com/event/the-world-utilities-congress/
LOCATION:ADNEC\, Abu Dhabi\, United Arab Emirates
ATTACH;FMTTYPE=image/png:https://borderlessrenewables.com/wp-content/uploads/2023/04/wuc-signature-2.png
END:VEVENT
BEGIN:VEVENT
DTSTART;TZID=UTC:20230503T080000
DTEND;TZID=UTC:20230504T170000
DTSTAMP:20260425T111227
CREATED:20230125T182526Z
LAST-MODIFIED:20230425T182837Z
UID:57-1683100800-1683219600@borderlessrenewables.com
SUMMARY:Large Scale Solar USA 2023
DESCRIPTION:The Meeting Place for USA Solar Dealmakers\n\n\n\n\nThe U.S. Energy Information Administration (EIA) statistics show that the US is set to add 63 GW of PV by 2024. Following on the Biden administration’s Inflation Reduction Act which targets $369 billion for clean energy and $40 billion for manufacturing\, the solar industry in the USA has never looked so bright. Partnerships are essential to hit that figure and the second annual Large Scale Solar USA Summit is the place to meet developers\, EPCs and IPPs responsible for the next phase of the build out.
URL:https://borderlessrenewables.com/event/large-scale-solar-usa-2023/
LOCATION:Texas\, Texas\, United States
ATTACH;FMTTYPE=image/png:https://borderlessrenewables.com/wp-content/uploads/2023/04/LSS-USA-2022-2nd-Edition-NEG-300x167-1.png
END:VEVENT
BEGIN:VEVENT
DTSTART;TZID=UTC:20230425T080000
DTEND;TZID=UTC:20230425T170000
DTSTAMP:20260425T111227
CREATED:20230425T183709Z
LAST-MODIFIED:20230425T183709Z
UID:62-1682409600-1682442000@borderlessrenewables.com
SUMMARY:PV ModuleTech USA
DESCRIPTION:Understanding PV module supply to the U.S. market in 2023 & 2024\n\n\nWhy PV ModuleTech USA?\n\n\n\n\n\n\n\n\n\n\n\n\n\n\n\n\n\n\n\n\n\nThe conference gathers together developers\, independent power producers and module suppliers to the U.S. solar market as well as EPCs\, banks\, investors\, technical advisory and testing & certification specialists. The inaugural conference sold out last year\, so do add this one to your diary for 2023! \nWith the U.S. solar industry facing numerous supply challenges during a period of increased demand for solar\, module supplier selection has become increasingly difficult. This event will address the module landscape that is expected to unfold for U.S. buyers in the coming years; in particular new domestic manufacturing. Special attention will be given to the module offerings\, full value-chain traceability and the financial health of the companies currently supplying the market. Additionally\, modules are changing in size and technology\, with n-type wafers becoming more prevalent. The PV ModuleTech event in Napa\, California in June 2023 will help attendees to navigate this new landscape for U.S. buyers in the coming years.
URL:https://borderlessrenewables.com/event/pv-moduletech-usa/
LOCATION:Napa\, United States
ATTACH;FMTTYPE=image/png:https://borderlessrenewables.com/wp-content/uploads/2023/04/PV-Moduletech-USA-2023-ALL-TEXT-NEG-300x40-1.png
END:VEVENT
END:VCALENDAR