BEGIN:VCALENDAR
VERSION:2.0
PRODID:-//BORDERLESS RENEWABLES - ECPv6.15.20//NONSGML v1.0//EN
CALSCALE:GREGORIAN
METHOD:PUBLISH
X-ORIGINAL-URL:https://borderlessrenewables.com
X-WR-CALDESC:Events for BORDERLESS RENEWABLES
REFRESH-INTERVAL;VALUE=DURATION:PT1H
X-Robots-Tag:noindex
X-PUBLISHED-TTL:PT1H
BEGIN:VTIMEZONE
TZID:UTC
BEGIN:STANDARD
TZOFFSETFROM:+0000
TZOFFSETTO:+0000
TZNAME:UTC
DTSTART:20250101T000000
END:STANDARD
END:VTIMEZONE
BEGIN:VEVENT
DTSTART;VALUE=DATE:20260630
DTEND;VALUE=DATE:20260702
DTSTAMP:20260425T101747
CREATED:20251016T115246Z
LAST-MODIFIED:20251016T115246Z
UID:617-1782777600-1782950399@borderlessrenewables.com
SUMMARY:Clean Power 2030 Summits
DESCRIPTION:Member Discount – 20 per cent
URL:https://borderlessrenewables.com/event/clean-power-2030-summits/
LOCATION:London\, UK
END:VEVENT
END:VCALENDAR